BEGIN:VCALENDAR
VERSION:2.0
PRODID:-// - ECPv6.15.18//NONSGML v1.0//EN
CALSCALE:GREGORIAN
METHOD:PUBLISH
X-ORIGINAL-URL:https://gentgran.assemblea.cat
X-WR-CALDESC:Esdeveniments per 
REFRESH-INTERVAL;VALUE=DURATION:PT1H
X-Robots-Tag:noindex
X-PUBLISHED-TTL:PT1H
BEGIN:VTIMEZONE
TZID:Europe/Madrid
BEGIN:DAYLIGHT
TZOFFSETFROM:+0100
TZOFFSETTO:+0200
TZNAME:CEST
DTSTART:20220327T010000
END:DAYLIGHT
BEGIN:STANDARD
TZOFFSETFROM:+0200
TZOFFSETTO:+0100
TZNAME:CET
DTSTART:20221030T010000
END:STANDARD
BEGIN:DAYLIGHT
TZOFFSETFROM:+0100
TZOFFSETTO:+0200
TZNAME:CEST
DTSTART:20230326T010000
END:DAYLIGHT
BEGIN:STANDARD
TZOFFSETFROM:+0200
TZOFFSETTO:+0100
TZNAME:CET
DTSTART:20231029T010000
END:STANDARD
BEGIN:DAYLIGHT
TZOFFSETFROM:+0100
TZOFFSETTO:+0200
TZNAME:CEST
DTSTART:20240331T010000
END:DAYLIGHT
BEGIN:STANDARD
TZOFFSETFROM:+0200
TZOFFSETTO:+0100
TZNAME:CET
DTSTART:20241027T010000
END:STANDARD
END:VTIMEZONE
BEGIN:VEVENT
DTSTART;TZID=Europe/Madrid:20231012T100000
DTEND;TZID=Europe/Madrid:20231012T123000
DTSTAMP:20260422T174956
CREATED:20230928T095515Z
LAST-MODIFIED:20230928T100115Z
UID:17532-1697104800-1697113800@gentgran.assemblea.cat
SUMMARY:REUNIÓ GRUP DE TREBALL
DESCRIPTION:
URL:https://gentgran.assemblea.cat/esdeveniment/reunio-grup-de-treball-31/
LOCATION:Presencial a la seu de l’ANC i virtual per videoconferència\, carrer de la Marina\, 315\, Barcelona\, Catalunya\, 08025\, Espanya
END:VEVENT
BEGIN:VEVENT
DTSTART;TZID=Europe/Madrid:20231024T180000
DTEND;TZID=Europe/Madrid:20231024T190000
DTSTAMP:20260422T174956
CREATED:20231019T105731Z
LAST-MODIFIED:20231019T105808Z
UID:17575-1698170400-1698174000@gentgran.assemblea.cat
SUMMARY:Videoconferància amb Pep Cruanyes
DESCRIPTION:  \n     Per accedir a la videoconferància feu clic a
URL:https://gentgran.assemblea.cat/esdeveniment/videoconferancia-amb-pep-cruanyes/
LOCATION:Reunió virtual per Zoom
END:VEVENT
END:VCALENDAR